BEGIN:VCALENDAR
VERSION:2.0
PRODID:-//eventon.com NONSGML v1.0//EN
CALSCALE:GREGORIAN
METHOD:PUBLISH
BEGIN:VEVENT
UID:69ea125fc2120
DTSTAMP:20260423T123647Z
DTSTART:20250420T013000Z
DTEND:20250420T065900Z
LOCATION:
SUMMARY:SATURDAY NIGHT LIVE MUSIC : Breedloves
DESCRIPTION:\nhttps://thefourthbore.com/events/saturday-night-live-music-br
 eedloves-2
URL:https://thefourthbore.com/events/saturday-night-live-music-breedloves-2
END:VEVENT
END:VCALENDAR